BEGIN:VCALENDAR
VERSION:2.0
PRODID:-//Swim Time Log - ECPv6.15.18//NONSGML v1.0//EN
CALSCALE:GREGORIAN
METHOD:PUBLISH
X-WR-CALNAME:Swim Time Log
X-ORIGINAL-URL:https://swimtimelog.org
X-WR-CALDESC:Events for Swim Time Log
REFRESH-INTERVAL;VALUE=DURATION:PT1H
X-Robots-Tag:noindex
X-PUBLISHED-TTL:PT1H
BEGIN:VTIMEZONE
TZID:UTC
BEGIN:STANDARD
TZOFFSETFROM:+0000
TZOFFSETTO:+0000
TZNAME:UTC
DTSTART:20240101T000000
END:STANDARD
END:VTIMEZONE
BEGIN:VEVENT
DTSTART;TZID=UTC:20250419T080000
DTEND;TZID=UTC:20250420T170000
DTSTAMP:20260418T053821
CREATED:20241230T085352Z
LAST-MODIFIED:20250416T085111Z
UID:3569-1745049600-1745168400@swimtimelog.org
SUMMARY:Swim With Nature Challenge & Adventure #1 - Thac Ba Lake
DESCRIPTION:First-Ever Swim With Nature Adventure in Vietnam!\nFor the first time in Vietnam\, we’re inviting swimmers from around the world to join an epic 3-5KM open-water swim in the breathtaking Thac Ba Lake—a place where nature\, courage\, and adventure collide. \n\n		\n					\n\n	\n\n\n\n		\n\n		\n\n	\n	\n	\n								\n									\n					\n								\n\n	\n	\n\n\n	\n		\n									\n			\n\n		\n\n		\n\n		\n			\n\n\n\n\n	\n				\n			\n			\n\nWhy We Created Swim With Nature\n💡 Our Vision: To inspire swimmers worldwide to step beyond the pool\, break through limits\, and experience the wild\, open water as it was meant to be. \n\n		\n					\n\n	\n\n	\n				\n			\n			\n\n	\n								\n									\n					\n								\n\n	\n	\n\n\n		\n					\n\n	\n\n\n\n\n	\n								\n									\n					\n								\n\n	\n	\n\n	\n		\n\nIt’s not just a race. It’s an experience.\n		\n\n	\n	\n\n\n\n	\n				\n			\n			\n\n	\n								\n										\n						\n					\n								\n\n	\n	\n\n🏊‍♂️ Swim 3-5KM across Thac Ba Lake – one of Vietnam’s most stunning natural wonders.\n	\n								\n									\n					\n								\n\n	\n	\n\n🌿 Explore untouched islands & breathtaking landscapes along the way.\n\n		\n					\n\n	\n\n	\n				\n			\n			\n\n🏆 Earn your Bravery Certificate & celebrate the challenge\n	\n								\n									\n					\n								\n\n	\n	\n\n🚣 Feel secure with professional safety guides\n	\n								\n									\n					\n								\n\n	\n	\n\n\n		\n					\n\n	\n\n	\n				\n			\n			\n\n	\n								\n									\n					\n								\n\n	\n	\n\n🌅 Wake up to the most stunning sunrise you’ve ever seen\n	\n								\n									\n					\n								\n\n	\n	\n\n🍽️ Enjoy an authentic Vietnamese feast by the lake\n	\n		\n\n	\n	\n\n\n		\n					\n\n	\n\n\n\n\n\n		\n\n		\n\n	\n	\n\n	\n		\n									\n			\n\n		\n\n		\n\n		\n			\n\n\n\n\n	\n				\n			\n			\n\n\n    \n        \n\n	\n								\n									\n					\n								\n\n	\n	\n\n	\n								\n									\n					\n								\n\n	\n	\n\n	\n								\n									\n					\n								\n\n	\n	\n\n\n     \n\n     \n\n	\n\n\n\n		\n					\n\n	\n\n	\n				\n			\n			\n\n	\n		\n\nThe Location \n		\n\n	\n	\nDiscover Thac Ba – Vietnam’s Hidden Paradise\nWelcome to Thac Ba Lake\, one of Vietnam’s largest and most breathtaking freshwater lakes. With over 1\,300 forested islands\, calm blue water\, and peaceful surroundings\, it’s the perfect setting for an unforgettable swim adventure. \n🏡 You’ll be staying at the cozy and authentic Hưng Lệ Homestay\, where you can enjoy the warm hospitality of the local Tay and Dao communities. Expect peaceful views\, traditional charm\, and true connection with nature. \n\n    \n        \n\n	\n								\n									\n					\n								\n\n	\n	\n\n	\n								\n									\n					\n								\n\n	\n	\n\n	\n								\n									\n					\n								\n\n	\n	\n\n\n     \n\n     \n\n	\n\n\n\n		\n					\n\n	\n\n\n\n		\n\n		\n\n	\n	\n\n	\n		\n									\n			\n\n		\n\n		\n\n		\n			\n\n\n\n\n	\n				\n			\n			\n\n	\n		\n\nThe Challenge \n		\n\n	\n	\nYour Courage\, Your Pace Capture your swim journey\n🏊 The challenge: A 3–5KM open-water swim across Thac Ba Lake’s serene waters\, guided by professional coaches and safety kayaks. \nIt’s not a race.It’s you vs. your limits—with nature cheering you on.Whether you’re here for the distance or the discovery\, every stroke counts. \n💪 All levels welcome – life vests\, safety support\, and swim briefings are provided. \n		\n				\n\n\n\n		\n	\n\n		\n					\n\n	\n\n	\n				\n			\n			\n\n		\n				\n\n\n\n		\n	\n\n		\n					\n\n	\n\n\n\n		\n\n		\n\n	\n	\n\n	\n		\n									\n			\n\n		\n\n		\n\n		\n			\n\n\n\n\n	\n				\n			\n			\n\n	\n		\n\n Ready to Dive In? \n		\n\n	\n	\n	\n		\n\nWe’re inviting you to be part of our first international adventure.\n		\n\n	\n	\n	\n		\n\nAt Swim Time Log\, we’ve spent years helping people find confidence and courage through swimming. We’ve taught over thoudsands children and swimmers with safety education\, and built operating some community pools from the ground up. But more than that\, we’ve helped people face the water—and themselves—with bravery. Now\, we’re inviting you to join us on our next chapter: our first-ever international adventure\, right here in Vietnam. \n		\n\n	\n	\n\n		Sign Up For The Adventure\n	\n\n\n\n		\n					\n\n	\n\n\n\n		\n\n		\n\n	\n	\n\n	\n		\n									\n			\n\n		\n\n		\n\n		\n			\n\n\n\n\n	\n				\n			\n			\n\n	\n								\n									\n					\n								\n\n	\n	\n\n	\n								\n									\n					\n								\n\n	\n	\n\n\n		\n					\n\n	\n\n	\n				\n			\n			\n\n	\n								\n									\n					\n								\n\n	\n	\n\n\n		\n					\n\n	\n\n	\n				\n			\n			\n\n	\n								\n									\n					\n								\n\n	\n	\n\n	\n								\n									\n					\n								\n\n	\n	\n\n\n		\n					\n\n	\n\n	\n				\n			\n			\n\n	\n								\n									\n					\n								\n\n	\n	\n\n	\n								\n									\n					\n								\n\n	\n	\n\n\n		\n					\n\n	\n\n	\n				\n			\n			\n\n	\n								\n									\n					\n								\n\n	\n	\n\n	\n								\n									\n					\n								\n\n	\n	\n\n\n		\n					\n\n	\n\n\n\n		\n\n		\n\n	\n	\n\n	\n		\n									\n			\n\n		\n\n		\n\n		\n			\n\n\n\n\n	\n				\n			\n			\n\n	\n		\n\nSchedule Overview \n\n		\n\n	\n	\n	\n		\n\n How to Join the Journey\n		\n\n	\n	\n	\n		\n\nWe’ve made it easy for you to dive into this adventure. Just pack your gear and meet us in Hanoi — we’ll handle the rest! \n\n📍 Departure Point: Green Pool Mỹ Đình\, Hanoi\nWe’ll start the journey together from Green Pool\, a convenient location in Hanoi.🚌 A private bus (already booked!) will take you on a scenic 182km ride — about 3 hours — to the beautiful Hưng Lệ Homestay by Thac Ba Lake. \n		\n\n	\n	\n\n		\n					\n\n	\n\n\n	\n								\n									\n					\n								\n\n	\n	\n\n\n		\n\n		\n\n	\n	\n\n\n\nDay 1\n\n\nDay 2\n\n\n\n07:30 – Departure (Meet at Green Pool Mỹ Đình\, Hanoi\, Vietnam)\n06:00 – 06:45 – Breakfast\n\n\n07:45 – 10:45 – Travel from Hanoi to Thác Bà – Yên Bái\n06:45 – 07:00 – Prepare swimming gear\n\n\n10:45 – 11:15 – Check-in and rest\n07:15 – 07:45 – Introduction to a new swimming location and travel\n\n\n11:15 – 12:00 – Free time for sightseeing\n07:45 – 10:30 – Swimming\n\n\n12:00 – 14:00 – Lunch (Rest after lunch)\n10:30 – 11:15 – Return to shore by boat\n\n\n14:00 – 17:00 – Swimming event\n11:15 – 12:00 – Shower and rest\n\n\n17:00 – 18:15 – Shower and rest\n12:00 – 13:10 – Lunch\n\n\n18:15 – 21:00 – Dinner (Dinner and program planning)\n13:10 – 16:45 – Travel back to Hanoi\n\n\n22:00 – 06:00 – Rest\n\n\n\n\n\n✅ Transportation from Hanoi to Thac Ba Lake and back\n✅ 1 Night stay at  Hưng Lệ Home Stay\, Thac Ba Lake\n✅ Professional guidance and support during the swim\n✅ Safety equipment (life vests)\n✅ Photos and videos of your swim adventure\n✅ Welcome dinner\, breakfast\, and cultural lunch \nQ&A \nQ: Is this event suitable for beginners?\nA: Yes! Whether you’re experienced or new to open water\, our team will provide guidance and ensure safety. \nQ: What makes this event unique?\nA: It’s not just a swim — it’s a movement to inspire bravery\, build community\, and celebrate nature. \nQ: Can I join if I don’t know how to swim well?\nA: Absolutely! We provide life vests\, and our supportive team ensures everyone feels confident and safe. \n\n\nGet Support Before You Pay – Let’s Talk First!\nWe understand that signing up for an event is a big decision\, and we want to make sure you feel 100% confident before making your payment.\nThat’s why we offer pre-registration support to answer your questions\, guide you through the process\, and ensure everything is clear before you proceed. \nWhat You’ll Get By Filling Out This Form:\n\n✅ Personalized assistance from our team to address any concerns.\n✅ Detailed event information to help you make an informed decision.\n✅ Step-by-step guidance on registration & payment.\n✅ Direct communication with us for trust & transparency.\n\nSimply fill out the form below\, and we’ll reach out to support you before you finalize your registration! \n\n\n  \n\n\n\n\n	Your personal information\n	 \n	  \n  \n  \n	 \n	Your contact information\n	 \n	  \n  \n  \n	 \n	Swimming Experience: How long have you been swimming?\n	 \n	 I have no experienceLess than 1 year of experienceTwo years of experience3-5 years of experienceOver 5 years of experienceOver 7 years of experienceOver 10 years of experience\n	 \n	What are your expectations for this trip with STL?\n	 \n	 \n	 \n	Will your trip also include tourism in Vietnam?\n	 \n	YesNo\nPlease leave this field empty.\n\n	 \nΔ \n\n\n\n\nHave Questions? Let’s Connect!\n📧 Email: contact@swimtimelog.org\n📞 Whatsapp: (+84) 962254669 /(+84) 902123668
URL:https://swimtimelog.org/event/swim-with-nature-challenge-adventure/
LOCATION:Thac Ba Lake\, Yen Bai\, Yen Bai\, Yen Bai\, 100000\, Viet Nam
ATTACH;FMTTYPE=image/jpeg:https://swimtimelog.org/wp-content/uploads/2024/12/White-and-Green-Modern-Adventure-Youtube-Thumbnail-3.jpg
END:VEVENT
BEGIN:VEVENT
DTSTART;TZID=UTC:20250313T080000
DTEND;TZID=UTC:20250313T170000
DTSTAMP:20260418T053821
CREATED:20250313T092113Z
LAST-MODIFIED:20250313T092113Z
UID:3655-1741852800-1741885200@swimtimelog.org
SUMMARY:demo
DESCRIPTION:Swim With Nature – Event \n\n\n \n \n\nSwim With Nature\nJoin us for an unforgettable open-water adventure! \n\n \n\n\n        Swim With Nature is more than just an event;\n    \n\n        It’s a call to embrace the open water\, overcome fears\, and connect with the beauty of the natural world.\n    \n\n        Together\, we aim to:\n     \n     \n\n\n💪 Inspire Bravery\nEmpower swimmers to face their fears and build confidence in open water. \n \n\n🌍 Foster Connection\nCelebrate the beauty of nature\, culture\, and human connection. \n \n\n🌊 Spread Awareness\nAdvocate for the joy and transformative power of swimming to people worldwide. \n \n \n     \n📅 Event Schedule\n\n\nDay 1\nDay 2\n\n\n07:30 – Departure\n06:00 – Breakfast\n\n\n14:00 – Swimming Event\n07:45 – Swimming\n\n\n18:15 – Dinner & Program\n13:10 – Travel Back\n\n\n     \n\nRequest More Information\nHave questions? Fill out the form below\, and we’ll get in touch! \n\n\n  \n\n\n\n\n	Your personal information\n	 \n	  \n  \n  \n	 \n	Your contact information\n	 \n	  \n  \n  \n	 \n	Swimming Experience: How long have you been swimming?\n	 \n	 I have no experienceLess than 1 year of experienceTwo years of experience3-5 years of experienceOver 5 years of experienceOver 7 years of experienceOver 10 years of experience\n	 \n	What are your expectations for this trip with STL?\n	 \n	 \n	 \n	Will your trip also include tourism in Vietnam?\n	 \n	YesNo\nPlease leave this field empty.\n\n	 \nΔ
URL:https://swimtimelog.org/event/demo/
END:VEVENT
END:VCALENDAR